BEGIN:VCALENDAR
VERSION:2.0
PRODID:-//Adunirio - ECPv6.15.13//NONSGML v1.0//EN
CALSCALE:GREGORIAN
METHOD:PUBLISH
X-ORIGINAL-URL:https://adunirio.org.br
X-WR-CALDESC:Eventos para Adunirio
REFRESH-INTERVAL;VALUE=DURATION:PT1H
X-Robots-Tag:noindex
X-PUBLISHED-TTL:PT1H
BEGIN:VTIMEZONE
TZID:America/Sao_Paulo
BEGIN:STANDARD
TZOFFSETFROM:-0200
TZOFFSETTO:-0300
TZNAME:-03
DTSTART:20180218T020000
END:STANDARD
BEGIN:DAYLIGHT
TZOFFSETFROM:-0300
TZOFFSETTO:-0200
TZNAME:-02
DTSTART:20181104T030000
END:DAYLIGHT
BEGIN:STANDARD
TZOFFSETFROM:-0200
TZOFFSETTO:-0300
TZNAME:-03
DTSTART:20190217T020000
END:STANDARD
END:VTIMEZONE
BEGIN:VEVENT
DTSTART;VALUE=DATE:20190904
DTEND;VALUE=DATE:20190919
DTSTAMP:20260423T184647
CREATED:20190909T204749Z
LAST-MODIFIED:20190909T204749Z
UID:5041-1567555200-1568851199@adunirio.org.br
SUMMARY:Feira Camponesa
DESCRIPTION:
URL:https://adunirio.org.br/evento/feira-camponesa/
LOCATION:Tenda do CCH/Unirio\, Av. Pasteur\, 458\, Praia Vermelha\, Rio de Janeiro\, Rio de Janeiro\, Brasil
END:VEVENT
BEGIN:VEVENT
DTSTART;VALUE=DATE:20190830
DTEND;VALUE=DATE:20190831
DTSTAMP:20260423T184647
CREATED:20190909T210122Z
LAST-MODIFIED:20190909T210122Z
UID:5057-1567123200-1567209599@adunirio.org.br
SUMMARY:Sindicato Itinerante
DESCRIPTION:
URL:https://adunirio.org.br/evento/sindicato-itinerante/
LOCATION:HUGG\, R. Mariz e Barros\, 775 - Maracanã\, Rio de Janeiro\, Rio de Janeiro\, Brasil
END:VEVENT
BEGIN:VEVENT
DTSTART;VALUE=DATE:20190830
DTEND;VALUE=DATE:20190902
DTSTAMP:20260423T184647
CREATED:20190909T205913Z
LAST-MODIFIED:20190909T205913Z
UID:5050-1567123200-1567382399@adunirio.org.br
SUMMARY:II Seminário Nacional Integrado do GTPCEGDS
DESCRIPTION:
URL:https://adunirio.org.br/evento/ii-seminario-nacional-integrado-do-gtpcegds/
LOCATION:UERJ\, R. São Francisco Xavier\, 524 - Maracanã\, Rio de Janeiro\, Rio de Janeiro\, Brasil
END:VEVENT
END:VCALENDAR