BEGIN:VCALENDAR
VERSION:2.0
PRODID:-//Adunirio - ECPv6.15.13//NONSGML v1.0//EN
CALSCALE:GREGORIAN
METHOD:PUBLISH
X-WR-CALNAME:Adunirio
X-ORIGINAL-URL:https://adunirio.org.br
X-WR-CALDESC:Eventos para Adunirio
REFRESH-INTERVAL;VALUE=DURATION:PT1H
X-Robots-Tag:noindex
X-PUBLISHED-TTL:PT1H
BEGIN:VTIMEZONE
TZID:America/Sao_Paulo
BEGIN:STANDARD
TZOFFSETFROM:-0200
TZOFFSETTO:-0300
TZNAME:-03
DTSTART:20180218T020000
END:STANDARD
BEGIN:DAYLIGHT
TZOFFSETFROM:-0300
TZOFFSETTO:-0200
TZNAME:-02
DTSTART:20181104T030000
END:DAYLIGHT
BEGIN:STANDARD
TZOFFSETFROM:-0200
TZOFFSETTO:-0300
TZNAME:-03
DTSTART:20190217T020000
END:STANDARD
END:VTIMEZONE
BEGIN:VEVENT
DTSTART;VALUE=DATE:20210708
DTEND;VALUE=DATE:20210709
DTSTAMP:20260423T135414
CREATED:20210728T192054Z
LAST-MODIFIED:20210728T192054Z
UID:6355-1625702400-1625788799@adunirio.org.br
SUMMARY:Assembleia Docente da Adunirio
DESCRIPTION:
URL:https://adunirio.org.br/evento/assembleia-docente-da-adunirio-3/
END:VEVENT
BEGIN:VEVENT
DTSTART;VALUE=DATE:20210703
DTEND;VALUE=DATE:20210704
DTSTAMP:20260423T135414
CREATED:20210728T191747Z
LAST-MODIFIED:20210728T191747Z
UID:6349-1625270400-1625356799@adunirio.org.br
SUMMARY:3J – Ato Fora Bolsonaro
DESCRIPTION:
URL:https://adunirio.org.br/evento/3j-ato-fora-bolsonaro/
END:VEVENT
BEGIN:VEVENT
DTSTART;VALUE=DATE:20210622
DTEND;VALUE=DATE:20210623
DTSTAMP:20260423T135414
CREATED:20210728T191446Z
LAST-MODIFIED:20210728T191446Z
UID:6346-1624320000-1624406399@adunirio.org.br
SUMMARY:Aniversário Adunirio
DESCRIPTION:Há exatos 42 anos\, uma assembleia no anfiteatro do HUGG decidia pela fundação da Adunirio e elegia a primeira diretoria provisória formada por seis membros.
URL:https://adunirio.org.br/evento/aniversario-adunirio/
END:VEVENT
BEGIN:VEVENT
DTSTART;VALUE=DATE:20210619
DTEND;VALUE=DATE:20210620
DTSTAMP:20260423T135414
CREATED:20210728T190741Z
LAST-MODIFIED:20210728T191204Z
UID:6340-1624060800-1624147199@adunirio.org.br
SUMMARY:19J - Ato Fora Bolsonaro
DESCRIPTION:
URL:https://adunirio.org.br/evento/19j-ato-fora-bolsonaro/
END:VEVENT
BEGIN:VEVENT
DTSTART;VALUE=DATE:20210618
DTEND;VALUE=DATE:20210619
DTSTAMP:20260423T135414
CREATED:20210728T192259Z
LAST-MODIFIED:20210728T192259Z
UID:6358-1623974400-1624060799@adunirio.org.br
SUMMARY:Assembleia Docente da Adunirio
DESCRIPTION:
URL:https://adunirio.org.br/evento/assembleia-docente-da-adunirio-4/
END:VEVENT
BEGIN:VEVENT
DTSTART;VALUE=DATE:20210528
DTEND;VALUE=DATE:20210529
DTSTAMP:20260423T135414
CREATED:20210728T192350Z
LAST-MODIFIED:20210728T192350Z
UID:6361-1622160000-1622246399@adunirio.org.br
SUMMARY:Assembleia Docente da Adunirio
DESCRIPTION:
URL:https://adunirio.org.br/evento/assembleia-docente-da-adunirio-5/
END:VEVENT
BEGIN:VEVENT
DTSTART;VALUE=DATE:20210519
DTEND;VALUE=DATE:20210520
DTSTAMP:20260423T135414
CREATED:20210728T190954Z
LAST-MODIFIED:20210728T192604Z
UID:6343-1621382400-1621468799@adunirio.org.br
SUMMARY:19M - Ato Fora Bolsonaro e contra cortes no orçamento da Unirio
DESCRIPTION:
URL:https://adunirio.org.br/evento/19m-ato-fora-bolsonaro/
END:VEVENT
BEGIN:VEVENT
DTSTART;VALUE=DATE:20210513
DTEND;VALUE=DATE:20210514
DTSTAMP:20260423T135414
CREATED:20210728T192651Z
LAST-MODIFIED:20210728T192651Z
UID:6365-1620864000-1620950399@adunirio.org.br
SUMMARY:Assembleia Docente da Adunirio
DESCRIPTION:
URL:https://adunirio.org.br/evento/assembleia-docente-da-adunirio-6/
END:VEVENT
BEGIN:VEVENT
DTSTART;VALUE=DATE:20210506
DTEND;VALUE=DATE:20210507
DTSTAMP:20260423T135414
CREATED:20210728T192759Z
LAST-MODIFIED:20210728T192759Z
UID:6368-1620259200-1620345599@adunirio.org.br
SUMMARY:Assembleia Docente da Adunirio
DESCRIPTION:
URL:https://adunirio.org.br/evento/assembleia-docente-da-adunirio-7/
END:VEVENT
BEGIN:VEVENT
DTSTART;VALUE=DATE:20210401
DTEND;VALUE=DATE:20210402
DTSTAMP:20260423T135414
CREATED:20210728T193022Z
LAST-MODIFIED:20210728T193022Z
UID:6371-1617235200-1617321599@adunirio.org.br
SUMMARY:Debate - Ditadura Nunca Mais
DESCRIPTION:
URL:https://adunirio.org.br/evento/debate-ditadura-nunca-mais/
END:VEVENT
BEGIN:VEVENT
DTSTART;VALUE=DATE:20210311
DTEND;VALUE=DATE:20210312
DTSTAMP:20260423T135414
CREATED:20210728T194711Z
LAST-MODIFIED:20210728T194711Z
UID:6389-1615420800-1615507199@adunirio.org.br
SUMMARY:Debate - O impacto da pandemia na vida das mulhers
DESCRIPTION:
URL:https://adunirio.org.br/evento/debate-o-impacto-da-pandemia-na-vida-das-mulhers/
END:VEVENT
BEGIN:VEVENT
DTSTART;VALUE=DATE:20210304
DTEND;VALUE=DATE:20210305
DTSTAMP:20260423T135414
CREATED:20210728T193317Z
LAST-MODIFIED:20210728T193317Z
UID:6374-1614816000-1614902399@adunirio.org.br
SUMMARY:Assembleia Docente da Adunirio
DESCRIPTION:
URL:https://adunirio.org.br/evento/assembleia-docente-da-adunirio-8/
END:VEVENT
BEGIN:VEVENT
DTSTART;VALUE=DATE:20201218
DTEND;VALUE=DATE:20201219
DTSTAMP:20260423T135414
CREATED:20210728T193459Z
LAST-MODIFIED:20210728T193459Z
UID:6377-1608249600-1608335999@adunirio.org.br
SUMMARY:Confraternização Fim de Ano
DESCRIPTION:Evento virtual
URL:https://adunirio.org.br/evento/confraternizacao-fim-de-ano/
END:VEVENT
BEGIN:VEVENT
DTSTART;VALUE=DATE:20201215
DTEND;VALUE=DATE:20201216
DTSTAMP:20260423T135414
CREATED:20210728T193613Z
LAST-MODIFIED:20210728T193613Z
UID:6380-1607990400-1608076799@adunirio.org.br
SUMMARY:Reunião Aberta - Adicionais Ocupacionais
DESCRIPTION:
URL:https://adunirio.org.br/evento/reuniao-aberta-adicionais-ocupacionais/
END:VEVENT
BEGIN:VEVENT
DTSTART;VALUE=DATE:20201021
DTEND;VALUE=DATE:20201022
DTSTAMP:20260423T135414
CREATED:20210728T195011Z
LAST-MODIFIED:20210728T195011Z
UID:6392-1603238400-1603324799@adunirio.org.br
SUMMARY:Aula Inaugural do Semestre Especial
DESCRIPTION:Teatro – O andarilho da Utopia
URL:https://adunirio.org.br/evento/aula-inaugural-do-semestre-especial/
END:VEVENT
BEGIN:VEVENT
DTSTART;VALUE=DATE:20201014
DTEND;VALUE=DATE:20201015
DTSTAMP:20260423T135414
CREATED:20210728T195109Z
LAST-MODIFIED:20210728T195109Z
UID:6395-1602633600-1602719999@adunirio.org.br
SUMMARY:Assembleia Docente da Adunirio
DESCRIPTION:
URL:https://adunirio.org.br/evento/assembleia-docente-da-adunirio-10/
END:VEVENT
BEGIN:VEVENT
DTSTART;VALUE=DATE:20200717
DTEND;VALUE=DATE:20200718
DTSTAMP:20260423T135414
CREATED:20210728T193834Z
LAST-MODIFIED:20210728T193834Z
UID:6383-1594944000-1595030399@adunirio.org.br
SUMMARY:Assembleia Docente da Adunirio
DESCRIPTION:
URL:https://adunirio.org.br/evento/assembleia-docente-da-adunirio-9/
END:VEVENT
BEGIN:VEVENT
DTSTART;VALUE=DATE:20200624
DTEND;VALUE=DATE:20200626
DTSTAMP:20260423T135414
CREATED:20210728T194000Z
LAST-MODIFIED:20210728T194000Z
UID:6386-1592956800-1593129599@adunirio.org.br
SUMMARY:Seminário - Universidade e gestão democrática
DESCRIPTION:
URL:https://adunirio.org.br/evento/seminario-universidade-e-gestao-democratica/
END:VEVENT
BEGIN:VEVENT
DTSTART;VALUE=DATE:20200318
DTEND;VALUE=DATE:20200319
DTSTAMP:20260423T135414
CREATED:20200306T174708Z
LAST-MODIFIED:20200306T174708Z
UID:5753-1584489600-1584575999@adunirio.org.br
SUMMARY:Greve Geral da Educação
DESCRIPTION:
URL:https://adunirio.org.br/evento/greve-geral-da-educacao/
END:VEVENT
BEGIN:VEVENT
DTSTART;TZID=America/Sao_Paulo:20200312T160000
DTEND;TZID=America/Sao_Paulo:20200312T190000
DTSTAMP:20260423T135414
CREATED:20200305T202450Z
LAST-MODIFIED:20200305T202450Z
UID:5745-1584028800-1584039600@adunirio.org.br
SUMMARY:Assembleia Docente da Adunirio
DESCRIPTION:
URL:https://adunirio.org.br/evento/assembleia-docente-da-adunirio/
LOCATION:Auditório Tércio Pacitti\, Avo Pasteur\, 458\, Rio de Janeiro
END:VEVENT
BEGIN:VEVENT
DTSTART;TZID=America/Sao_Paulo:20200309T170000
DTEND;TZID=America/Sao_Paulo:20200309T190000
DTSTAMP:20260423T135414
CREATED:20200306T174252Z
LAST-MODIFIED:20200306T174252Z
UID:5749-1583773200-1583780400@adunirio.org.br
SUMMARY:Ato pela vida das mulheres e pela democracia
DESCRIPTION:
URL:https://adunirio.org.br/evento/ato-pela-vida-das-mulheres-e-pela-democracia/
END:VEVENT
BEGIN:VEVENT
DTSTART;TZID=America/Sao_Paulo:20191127T110000
DTEND;TZID=America/Sao_Paulo:20191127T190000
DTSTAMP:20260423T135414
CREATED:20191112T175404Z
LAST-MODIFIED:20191112T175729Z
UID:5628-1574852400-1574881200@adunirio.org.br
SUMMARY:Feira Camponesa
DESCRIPTION:
URL:https://adunirio.org.br/evento/feira-camponesa-5/
LOCATION:Tenda do CCH/Unirio\, Av. Pasteur\, 458\, Praia Vermelha\, Rio de Janeiro\, Rio de Janeiro\, Brasil
END:VEVENT
BEGIN:VEVENT
DTSTART;TZID=America/Sao_Paulo:20191121T190000
DTEND;TZID=America/Sao_Paulo:20191121T220000
DTSTAMP:20260423T135414
CREATED:20191112T181549Z
LAST-MODIFIED:20191112T181714Z
UID:5631-1574362800-1574373600@adunirio.org.br
SUMMARY:Consciência Negra
DESCRIPTION:Debate Marxismo e Questão Racial
URL:https://adunirio.org.br/evento/consciencia-negra/
END:VEVENT
BEGIN:VEVENT
DTSTART;TZID=America/Sao_Paulo:20191113T110000
DTEND;TZID=America/Sao_Paulo:20191113T190000
DTSTAMP:20260423T135414
CREATED:20191112T174324Z
LAST-MODIFIED:20191112T175452Z
UID:5618-1573642800-1573671600@adunirio.org.br
SUMMARY:Feira Camponesa
DESCRIPTION:
URL:https://adunirio.org.br/evento/feira-camponesa-4/
END:VEVENT
BEGIN:VEVENT
DTSTART;TZID=America/Sao_Paulo:20191112T090000
DTEND;TZID=America/Sao_Paulo:20191112T200000
DTSTAMP:20260423T135414
CREATED:20191112T174751Z
LAST-MODIFIED:20191112T175021Z
UID:5625-1573549200-1573588800@adunirio.org.br
SUMMARY:Plebiscito sobre o Future-se
DESCRIPTION:
URL:https://adunirio.org.br/evento/plebiscito-sobre-o-future-se/
END:VEVENT
BEGIN:VEVENT
DTSTART;TZID=America/Sao_Paulo:20191030T110000
DTEND;TZID=America/Sao_Paulo:20191030T190000
DTSTAMP:20260423T135414
CREATED:20191007T180200Z
LAST-MODIFIED:20191112T175051Z
UID:5536-1572433200-1572462000@adunirio.org.br
SUMMARY:Feira Camponesa
DESCRIPTION:
URL:https://adunirio.org.br/evento/feira-camponesa-3/
LOCATION:Tenda do CCH/Unirio\, Av. Pasteur\, 458\, Praia Vermelha\, Rio de Janeiro\, Rio de Janeiro\, Brasil
END:VEVENT
BEGIN:VEVENT
DTSTART;TZID=America/Sao_Paulo:20191017T170000
DTEND;TZID=America/Sao_Paulo:20191017T190000
DTSTAMP:20260423T135414
CREATED:20191007T180359Z
LAST-MODIFIED:20191112T175101Z
UID:5539-1571331600-1571338800@adunirio.org.br
SUMMARY:Posse da nova diretoria da Adunirio
DESCRIPTION:
URL:https://adunirio.org.br/evento/posse-da-nova-diretoria-da-adunirio/
LOCATION:Tenda do CCH/Unirio\, Av. Pasteur\, 458\, Praia Vermelha\, Rio de Janeiro\, Rio de Janeiro\, Brasil
END:VEVENT
BEGIN:VEVENT
DTSTART;TZID=America/Sao_Paulo:20191016T110000
DTEND;TZID=America/Sao_Paulo:20191016T190000
DTSTAMP:20260423T135414
CREATED:20191007T180049Z
LAST-MODIFIED:20191112T175110Z
UID:5533-1571223600-1571252400@adunirio.org.br
SUMMARY:Feira Camponesa
DESCRIPTION:
URL:https://adunirio.org.br/evento/feira-camponesa-2/
LOCATION:Tenda do CCH/Unirio\, Av. Pasteur\, 458\, Praia Vermelha\, Rio de Janeiro\, Rio de Janeiro\, Brasil
END:VEVENT
BEGIN:VEVENT
DTSTART;VALUE=DATE:20191016
DTEND;VALUE=DATE:20191018
DTSTAMP:20260423T135414
CREATED:20191007T180831Z
LAST-MODIFIED:20191112T175128Z
UID:5542-1571184000-1571356799@adunirio.org.br
SUMMARY:3ª Feira do Livro na Unirio
DESCRIPTION:
URL:https://adunirio.org.br/evento/3a-feira-do-livro-na-unirio/
END:VEVENT
BEGIN:VEVENT
DTSTART;TZID=America/Sao_Paulo:20191011T170000
DTEND;TZID=America/Sao_Paulo:20191011T210000
DTSTAMP:20260423T135414
CREATED:20191007T175924Z
LAST-MODIFIED:20191112T175119Z
UID:5530-1570813200-1570827600@adunirio.org.br
SUMMARY:Assembleia Geral do CCH
DESCRIPTION:
URL:https://adunirio.org.br/evento/assembleia-geral-do-cch/
LOCATION:Tenda do CCH/Unirio\, Av. Pasteur\, 458\, Praia Vermelha\, Rio de Janeiro\, Rio de Janeiro\, Brasil
END:VEVENT
END:VCALENDAR