BEGIN:VCALENDAR
VERSION:2.0
PRODID:-//Adunirio - ECPv6.15.13//NONSGML v1.0//EN
CALSCALE:GREGORIAN
METHOD:PUBLISH
X-ORIGINAL-URL:https://adunirio.org.br
X-WR-CALDESC:Eventos para Adunirio
REFRESH-INTERVAL;VALUE=DURATION:PT1H
X-Robots-Tag:noindex
X-PUBLISHED-TTL:PT1H
BEGIN:VTIMEZONE
TZID:America/Sao_Paulo
BEGIN:STANDARD
TZOFFSETFROM:-0300
TZOFFSETTO:-0300
TZNAME:-03
DTSTART:20200101T000000
END:STANDARD
END:VTIMEZONE
BEGIN:VEVENT
DTSTART;TZID=America/Sao_Paulo:20230920T100000
DTEND;TZID=America/Sao_Paulo:20230921T200000
DTSTAMP:20260423T084130
CREATED:20230906T175136Z
LAST-MODIFIED:20230906T175136Z
UID:7429-1695204000-1695326400@adunirio.org.br
SUMMARY:Eleições Adunirio 2023-2025
DESCRIPTION:
URL:https://adunirio.org.br/evento/eleicoes-adunirio-2023-2025/
END:VEVENT
BEGIN:VEVENT
DTSTART;TZID=America/Sao_Paulo:20230816T150000
DTEND;TZID=America/Sao_Paulo:20230816T170000
DTSTAMP:20260423T084130
CREATED:20230810T183814Z
LAST-MODIFIED:20230810T183814Z
UID:7314-1692198000-1692205200@adunirio.org.br
SUMMARY:Assembleia Geral - 16 de agosto de 2023
DESCRIPTION:📢Assembleia Geral Adunirio\nDia 16 de agosto (quarta-feira)\, às 15 horas. \nEsperamos você na quarta-feira da semana que vem para a nossa assembleia.\nEla acontecerá presencialmente no auditório Paulo Freire\, localizado no prédio do CCH da Unirio. \n👉 Pauta:\n1. Informes;\n2. Campanha Salarial 2024 / Mesa de Negociação;\n3. Prestação de Contas;\n4. Assuntos Gerais. \nParticipe e fortaleça o seu sindicato!
URL:https://adunirio.org.br/evento/assembleia-geral-16-de-agosto-de-2023/
LOCATION:Auditório Paulo Freire – CCH\, Av. Pasteur\, 458\, prédio do CCH\, Urca\, Rio de Janeiro\, RJ\, Brasil
CATEGORIES:Assembleia Geral
ATTACH;FMTTYPE=image/png:https://adunirio.org.br/wp-content/uploads/2023/08/CABEÇALHO-ADUNIRIO_03-SITE-EVENTO.png
END:VEVENT
BEGIN:VEVENT
DTSTART;TZID=America/Sao_Paulo:20230614T140000
DTEND;TZID=America/Sao_Paulo:20230614T170000
DTSTAMP:20260423T084130
CREATED:20230606T185350Z
LAST-MODIFIED:20230606T191434Z
UID:7263-1686751200-1686762000@adunirio.org.br
SUMMARY:Assembleia Geral Adunirio
DESCRIPTION:📢 Assembleia Geral Adunirio – 14 de junho de 2023 – 14h\nDia 14 de junho (quarta-feira)\, às 14 horas. \n\nEsperamos você na quarta-feira da semana que vem para a nossa assembleia.\nEla acontecerá presencialmente no auditório Tércio Pacitti\, localizado no prédio do CCET/IBIO.\n\n👉 Pauta:\n1. Informes;\n2. Escolha de delegado e observado(res) para o 66º Conad do ANDES-SN;\n3. Assessoria Jurídica;\n– Ações\n– Aposentadoria\n– Insalubridade\n– Progressão\n4. Aprovação do parecer dos demonstrativos financeiros;\n5. Assuntos Gerais.\n\nParticipe!
URL:https://adunirio.org.br/evento/assembleia-geral-adunirio/
LOCATION:Auditório Tércio Pacitti\, Avo Pasteur\, 458\, Rio de Janeiro
CATEGORIES:Assembleia Geral
ATTACH;FMTTYPE=image/png:https://adunirio.org.br/wp-content/uploads/2023/06/CABEÇALHO-ADUNIRIO_03.png
END:VEVENT
BEGIN:VEVENT
DTSTART;TZID=America/Sao_Paulo:20230517T190000
DTEND;TZID=America/Sao_Paulo:20230517T210000
DTSTAMP:20260423T084130
CREATED:20230505T193837Z
LAST-MODIFIED:20230505T193837Z
UID:7119-1684350000-1684357200@adunirio.org.br
SUMMARY:Lançamento Gramsci: uma nova biografia
DESCRIPTION:
URL:https://adunirio.org.br/evento/lancamento-gramsci-uma-nova-biografia/
END:VEVENT
BEGIN:VEVENT
DTSTART;TZID=America/Sao_Paulo:20230510T090000
DTEND;TZID=America/Sao_Paulo:20230511T190000
DTSTAMP:20260423T084130
CREATED:20230510T172733Z
LAST-MODIFIED:20230510T172807Z
UID:7131-1683709200-1683831600@adunirio.org.br
SUMMARY:Eleições do Andes
DESCRIPTION:
URL:https://adunirio.org.br/evento/eleicoes-do-andes/
END:VEVENT
BEGIN:VEVENT
DTSTART;TZID=America/Sao_Paulo:20230116T140000
DTEND;TZID=America/Sao_Paulo:20230116T140000
DTSTAMP:20260423T084130
CREATED:20230113T201952Z
LAST-MODIFIED:20230113T202022Z
UID:7006-1673877600-1673877600@adunirio.org.br
SUMMARY:Assembleia Docente
DESCRIPTION:Diante da ausência do quórum necessário para deliberação na assembleia do dia 12\, convocamos uma extraordinária para segunda-feira (16) com ponto de pauta único. A atividade será excepcionalmente online. Contamos com sua participação. \nAtenção! \nDiante do fato de que o prazo para envio da solicitação de credenciamento de delegados/as do 41º Congresso do Andes-SN se encerra na segunda-feira (16)\, os interessados/as em se candidatar a uma vaga na delegação devem nos enviar previamente seu cartão de vacinação por e-mail. Este documento é exigido pelo Andes-SN para comprovar a cobertura vacinal da Covid-19 e\, sendo o prazo para organizar a inscrição da delegação exíguo\, necessitaremos dele imediatamente ao término da votação a ser realizada na assembleia do dia 16\, com vista ao seu envio para a secretaria do Andes-SN. \nO cartão está disponível através do site do ConecteSUS. E aguardamos o encaminhamento do cartão de vacinação dos/as interessados/as para o endereço: adunirio@adunirio.org.br até o início da assembleia (16 de janeiro\, às 14h).
URL:https://adunirio.org.br/evento/assembleia-docente/
ATTACH;FMTTYPE=image/png:https://adunirio.org.br/wp-content/uploads/2023/01/16-DE-JANEIRO-ASSEMBLEIA-GERAL-ADUNIRIO.png
END:VEVENT
BEGIN:VEVENT
DTSTART;TZID=America/Sao_Paulo:20221212T140000
DTEND;TZID=America/Sao_Paulo:20221212T170000
DTSTAMP:20260423T084130
CREATED:20221208T211453Z
LAST-MODIFIED:20221208T211453Z
UID:6990-1670853600-1670864400@adunirio.org.br
SUMMARY:Assembleia Docente da Adunirio
DESCRIPTION:
URL:https://adunirio.org.br/evento/assembleia-docente-da-adunirio-19/
END:VEVENT
BEGIN:VEVENT
DTSTART;TZID=America/Sao_Paulo:20221129T170000
DTEND;TZID=America/Sao_Paulo:20221129T190000
DTSTAMP:20260423T084130
CREATED:20221125T172444Z
LAST-MODIFIED:20221125T172444Z
UID:6966-1669741200-1669748400@adunirio.org.br
SUMMARY:Política de Cotas na Universidade Brasileira
DESCRIPTION:
URL:https://adunirio.org.br/evento/politica-de-cotas-na-universidade-brasileira/
END:VEVENT
BEGIN:VEVENT
DTSTART;TZID=America/Sao_Paulo:20221112T080000
DTEND;TZID=America/Sao_Paulo:20221113T170000
DTSTAMP:20260423T084130
CREATED:20220823T183106Z
LAST-MODIFIED:20220823T183106Z
UID:6892-1668240000-1668358800@adunirio.org.br
SUMMARY:14º CONAD Extraordinário
DESCRIPTION:Tema: CSP- Conlutas: Balanço sobre a atuação nos últimos 10 anos\, sua relevância na luta de classes e a permanência ou desfiliação da central \nLocal: UnB – Brasília (DF)
URL:https://adunirio.org.br/evento/14o-conad-extraordinario/
END:VEVENT
BEGIN:VEVENT
DTSTART;TZID=America/Sao_Paulo:20220625T180000
DTEND;TZID=America/Sao_Paulo:20220625T220000
DTSTAMP:20260423T084130
CREATED:20220530T205357Z
LAST-MODIFIED:20220530T205357Z
UID:6815-1656180000-1656194400@adunirio.org.br
SUMMARY:Aniversário Adunirio
DESCRIPTION:
URL:https://adunirio.org.br/evento/aniversario-adunirio-2/
END:VEVENT
BEGIN:VEVENT
DTSTART;TZID=America/Sao_Paulo:20220622T140000
DTEND;TZID=America/Sao_Paulo:20220622T170000
DTSTAMP:20260423T084130
CREATED:20220615T194831Z
LAST-MODIFIED:20220615T194831Z
UID:6825-1655906400-1655917200@adunirio.org.br
SUMMARY:Assembleia Docente da Adunirio
DESCRIPTION:
URL:https://adunirio.org.br/evento/assembleia-docente-da-adunirio-18/
END:VEVENT
BEGIN:VEVENT
DTSTART;VALUE=DATE:20220614
DTEND;VALUE=DATE:20220615
DTSTAMP:20260423T084130
CREATED:20220530T205153Z
LAST-MODIFIED:20220530T205153Z
UID:6812-1655164800-1655251199@adunirio.org.br
SUMMARY:Aula Magna - Pela reconstrução de um projeto de país
DESCRIPTION:
URL:https://adunirio.org.br/evento/aula-magna-pela-reconstrucao-de-um-projeto-de-pais/
END:VEVENT
BEGIN:VEVENT
DTSTART;VALUE=DATE:20220525
DTEND;VALUE=DATE:20220526
DTSTAMP:20260423T084130
CREATED:20220526T205617Z
LAST-MODIFIED:20220526T205617Z
UID:6801-1653436800-1653523199@adunirio.org.br
SUMMARY:Homenagem a Paulo Freire
DESCRIPTION:
URL:https://adunirio.org.br/evento/homenagem-a-paulo-freire/
END:VEVENT
BEGIN:VEVENT
DTSTART;VALUE=DATE:20220525
DTEND;VALUE=DATE:20220526
DTSTAMP:20260423T084130
CREATED:20220526T205531Z
LAST-MODIFIED:20220526T205531Z
UID:6798-1653436800-1653523199@adunirio.org.br
SUMMARY:Seminário Reajuste Salarial Docente
DESCRIPTION:
URL:https://adunirio.org.br/evento/seminario-reajuste-salarial-docente/
END:VEVENT
BEGIN:VEVENT
DTSTART;VALUE=DATE:20220518
DTEND;VALUE=DATE:20220519
DTSTAMP:20260423T084130
CREATED:20220526T205453Z
LAST-MODIFIED:20220526T205453Z
UID:6795-1652832000-1652918399@adunirio.org.br
SUMMARY:Em defesa da democracia nas ruas e nas urnas
DESCRIPTION:Evento com Guilherme Boulos\, Renata Souza e Tarcísio Motta.
URL:https://adunirio.org.br/evento/em-defesa-da-democracia-nas-ruas-e-nas-urnas/
END:VEVENT
BEGIN:VEVENT
DTSTART;VALUE=DATE:20220224
DTEND;VALUE=DATE:20220225
DTSTAMP:20260423T084130
CREATED:20220224T210041Z
LAST-MODIFIED:20220224T210041Z
UID:6645-1645660800-1645747199@adunirio.org.br
SUMMARY:Assembleia Docente da Adunirio
DESCRIPTION:
URL:https://adunirio.org.br/evento/assembleia-docente-da-adunirio-17/
END:VEVENT
BEGIN:VEVENT
DTSTART;TZID=America/Sao_Paulo:20220214T150000
DTEND;TZID=America/Sao_Paulo:20220214T170000
DTSTAMP:20260423T084130
CREATED:20220210T192640Z
LAST-MODIFIED:20220210T192640Z
UID:6625-1644850800-1644858000@adunirio.org.br
SUMMARY:Assembleia Docente da Adunirio
DESCRIPTION:
URL:https://adunirio.org.br/evento/assembleia-docente-da-adunirio-16/
END:VEVENT
BEGIN:VEVENT
DTSTART;TZID=America/Sao_Paulo:20220209T150000
DTEND;TZID=America/Sao_Paulo:20220209T170000
DTSTAMP:20260423T084130
CREATED:20220210T193141Z
LAST-MODIFIED:20220210T193304Z
UID:6629-1644418800-1644426000@adunirio.org.br
SUMMARY:Assembleia Docente da Adunirio
DESCRIPTION:
URL:https://adunirio.org.br/evento/assembleia-docente-da-adunirio-15/
END:VEVENT
BEGIN:VEVENT
DTSTART;TZID=America/Sao_Paulo:20211130T140000
DTEND;TZID=America/Sao_Paulo:20211130T170000
DTSTAMP:20260423T084130
CREATED:20211125T175236Z
LAST-MODIFIED:20211125T180450Z
UID:6563-1638280800-1638291600@adunirio.org.br
SUMMARY:Seminário Avaliação do Ensino Remoto
DESCRIPTION:
URL:https://adunirio.org.br/evento/seminario-sobre-ensino-remoto/
END:VEVENT
BEGIN:VEVENT
DTSTART;TZID=America/Sao_Paulo:20211117T140000
DTEND;TZID=America/Sao_Paulo:20211117T170000
DTSTAMP:20260423T084130
CREATED:20211123T180633Z
LAST-MODIFIED:20211123T180633Z
UID:6558-1637157600-1637168400@adunirio.org.br
SUMMARY:Assembleia Docente da Adunirio
DESCRIPTION:
URL:https://adunirio.org.br/evento/assembleia-docente-da-adunirio-14/
END:VEVENT
BEGIN:VEVENT
DTSTART;TZID=America/Sao_Paulo:20211111T140000
DTEND;TZID=America/Sao_Paulo:20211111T170000
DTSTAMP:20260423T084130
CREATED:20211123T180534Z
LAST-MODIFIED:20211123T180534Z
UID:6555-1636639200-1636650000@adunirio.org.br
SUMMARY:Assembleia Docente Adunirio
DESCRIPTION:
URL:https://adunirio.org.br/evento/assembleia-docente-adunirio/
END:VEVENT
BEGIN:VEVENT
DTSTART;VALUE=DATE:20211027
DTEND;VALUE=DATE:20211028
DTSTAMP:20260423T084130
CREATED:20211021T183311Z
LAST-MODIFIED:20211021T183311Z
UID:6516-1635292800-1635379199@adunirio.org.br
SUMMARY:Assembleia Docente da Adunirio
DESCRIPTION:
URL:https://adunirio.org.br/evento/assembleia-docente-da-adunirio-13/
ATTACH;FMTTYPE=image/jpeg:https://adunirio.org.br/wp-content/uploads/2021/10/WhatsApp-Image-2021-10-20-at-14.49.30.jpeg
END:VEVENT
BEGIN:VEVENT
DTSTART;VALUE=DATE:20211002
DTEND;VALUE=DATE:20211003
DTSTAMP:20260423T084130
CREATED:20211011T175739Z
LAST-MODIFIED:20211011T175739Z
UID:6509-1633132800-1633219199@adunirio.org.br
SUMMARY:Ato #ForaBolsonaroGenocida
DESCRIPTION:
URL:https://adunirio.org.br/evento/ato-forabolsonarogenocida/
END:VEVENT
BEGIN:VEVENT
DTSTART;VALUE=DATE:20210929
DTEND;VALUE=DATE:20210930
DTSTAMP:20260423T084130
CREATED:20211011T175534Z
LAST-MODIFIED:20211011T175534Z
UID:6506-1632873600-1632959999@adunirio.org.br
SUMMARY:Assembleia Docente da Adunirio
DESCRIPTION:
URL:https://adunirio.org.br/evento/assembleia-docente-da-adunirio-12/
END:VEVENT
BEGIN:VEVENT
DTSTART;VALUE=DATE:20210915
DTEND;VALUE=DATE:20210918
DTSTAMP:20260423T084130
CREATED:20210728T190109Z
LAST-MODIFIED:20210728T190109Z
UID:6331-1631664000-1631923199@adunirio.org.br
SUMMARY:Eleições Adunirio
DESCRIPTION:Votação nas eleições para Diretoria\, Conselho de Representantes e Conselho Fiscal da Adunirio.
URL:https://adunirio.org.br/evento/eleicoes-adunirio/
END:VEVENT
BEGIN:VEVENT
DTSTART;VALUE=DATE:20210818
DTEND;VALUE=DATE:20210819
DTSTAMP:20260423T084130
CREATED:20210817T173905Z
LAST-MODIFIED:20210817T173905Z
UID:6439-1629244800-1629331199@adunirio.org.br
SUMMARY:18A: Dia Nacional de Protestos e Paralisações
DESCRIPTION:O dia 18 de agosto é um dia de múltiplas atividades e lutas. Haverá greve geral nas três esferas dos servidores públicos – federal\, estadual e municipal – contra a PEC 32 (Proposta de Emenda Constitucional)\, que visa destruir os serviços públicos por meio da reforma administrativa que tramita no Congresso Nacional. \nA assembleia docente da Adunirio desta segunda-feira decidiu pela adesão à greve geral desse dia 18 de agosto e orientou que professores e professoras convoquem seus alunos para participarem do ato que acontecerá às 16h\, na Candelária\, no Centro do Rio de Janeiro. Marcamos como ponto de encontro o balão do Andes-SN.
URL:https://adunirio.org.br/evento/18a-dia-nacional-de-protestos-e-paralisacoes/
END:VEVENT
BEGIN:VEVENT
DTSTART;VALUE=DATE:20210816
DTEND;VALUE=DATE:20210817
DTSTAMP:20260423T084130
CREATED:20210817T173720Z
LAST-MODIFIED:20210817T173720Z
UID:6436-1629072000-1629158399@adunirio.org.br
SUMMARY:Assembleia Docente da Adunirio
DESCRIPTION:
URL:https://adunirio.org.br/evento/assembleia-docente-da-adunirio-11/
END:VEVENT
BEGIN:VEVENT
DTSTART;VALUE=DATE:20210810
DTEND;VALUE=DATE:20210812
DTSTAMP:20260423T084130
CREATED:20210728T190343Z
LAST-MODIFIED:20210728T190343Z
UID:6334-1628553600-1628726399@adunirio.org.br
SUMMARY:Prazo para inscrição de chapas e candidaturas
DESCRIPTION:Prazo para inscrição de chapas e candidaturas para eleições Adunirio 2021-2023
URL:https://adunirio.org.br/evento/prazo-para-inscricao-de-chapas-e-candidaturas/
END:VEVENT
BEGIN:VEVENT
DTSTART;VALUE=DATE:20210724
DTEND;VALUE=DATE:20210725
DTSTAMP:20260423T084130
CREATED:20210728T190610Z
LAST-MODIFIED:20210728T190610Z
UID:6337-1627084800-1627171199@adunirio.org.br
SUMMARY:24J - Ato Fora Bolsonaro
DESCRIPTION:
URL:https://adunirio.org.br/evento/24j-ato-fora-bolsonaro/
END:VEVENT
BEGIN:VEVENT
DTSTART;VALUE=DATE:20210723
DTEND;VALUE=DATE:20210724
DTSTAMP:20260423T084130
CREATED:20210728T191929Z
LAST-MODIFIED:20210728T191929Z
UID:6352-1626998400-1627084799@adunirio.org.br
SUMMARY:Assembleia Docente da Adunirio
DESCRIPTION:
URL:https://adunirio.org.br/evento/assembleia-docente-da-adunirio-2/
END:VEVENT
END:VCALENDAR